BEGIN:VCALENDAR
VERSION:2.0
PRODID:-//ASTA - ECPv6.15.20//NONSGML v1.0//EN
CALSCALE:GREGORIAN
METHOD:PUBLISH
X-ORIGINAL-URL:https://www.betterseed.org
X-WR-CALDESC:Events for ASTA
REFRESH-INTERVAL;VALUE=DURATION:PT1H
X-Robots-Tag:noindex
X-PUBLISHED-TTL:PT1H
BEGIN:VTIMEZONE
TZID:America/New_York
BEGIN:DAYLIGHT
TZOFFSETFROM:-0500
TZOFFSETTO:-0400
TZNAME:EDT
DTSTART:20240310T070000
END:DAYLIGHT
BEGIN:STANDARD
TZOFFSETFROM:-0400
TZOFFSETTO:-0500
TZNAME:EST
DTSTART:20241103T060000
END:STANDARD
BEGIN:DAYLIGHT
TZOFFSETFROM:-0500
TZOFFSETTO:-0400
TZNAME:EDT
DTSTART:20250309T070000
END:DAYLIGHT
BEGIN:STANDARD
TZOFFSETFROM:-0400
TZOFFSETTO:-0500
TZNAME:EST
DTSTART:20251102T060000
END:STANDARD
BEGIN:DAYLIGHT
TZOFFSETFROM:-0500
TZOFFSETTO:-0400
TZNAME:EDT
DTSTART:20260308T070000
END:DAYLIGHT
BEGIN:STANDARD
TZOFFSETFROM:-0400
TZOFFSETTO:-0500
TZNAME:EST
DTSTART:20261101T060000
END:STANDARD
END:VTIMEZONE
BEGIN:VEVENT
DTSTART;TZID=America/New_York:20250608T080000
DTEND;TZID=America/New_York:20250611T170000
DTSTAMP:20260422T141644
CREATED:20241119T181758Z
LAST-MODIFIED:20250416T173551Z
UID:13725-1749369600-1749661200@www.betterseed.org
SUMMARY:ASTA Leadership Summit 2025
DESCRIPTION:Join us in Washington D.C. for the 2025 Leadership Summit\, a leadership development conference specifically designed for seed industry professionals. \n\n\n\nIn 2025\, we’re bringing ASTA’s Leadership Summit to our nation’s capital for a unique and one-of-a-kind meeting experience. Attendees will have the opportunity to participate in professional development sessions\, hear from policy leaders in D.C.\, and then jump right into the action with an Advocacy Day on Capitol Hill\, using their newly honed skills to engage with federal lawmakers on our industry’s top priorities. \n\nRegister here: www.betterseed.org/LS25
URL:https://www.betterseed.org/event/asta-leadership-summit-2025/
LOCATION:Grand Hyatt Washington\, 1000 H Street NW\, Washington\, DC\, 20001\, United States
CATEGORIES:ASTA Meetings,Events
END:VEVENT
END:VCALENDAR