BEGIN:VCALENDAR
VERSION:2.0
PRODID:-//ASTA - ECPv6.15.20//NONSGML v1.0//EN
CALSCALE:GREGORIAN
METHOD:PUBLISH
X-ORIGINAL-URL:https://www.betterseed.org
X-WR-CALDESC:Events for ASTA
REFRESH-INTERVAL;VALUE=DURATION:PT1H
X-Robots-Tag:noindex
X-PUBLISHED-TTL:PT1H
BEGIN:VTIMEZONE
TZID:America/Chicago
BEGIN:DAYLIGHT
TZOFFSETFROM:-0600
TZOFFSETTO:-0500
TZNAME:CDT
DTSTART:20240310T080000
END:DAYLIGHT
BEGIN:STANDARD
TZOFFSETFROM:-0500
TZOFFSETTO:-0600
TZNAME:CST
DTSTART:20241103T070000
END:STANDARD
BEGIN:DAYLIGHT
TZOFFSETFROM:-0600
TZOFFSETTO:-0500
TZNAME:CDT
DTSTART:20250309T080000
END:DAYLIGHT
BEGIN:STANDARD
TZOFFSETFROM:-0500
TZOFFSETTO:-0600
TZNAME:CST
DTSTART:20251102T070000
END:STANDARD
BEGIN:DAYLIGHT
TZOFFSETFROM:-0600
TZOFFSETTO:-0500
TZNAME:CDT
DTSTART:20260308T080000
END:DAYLIGHT
BEGIN:STANDARD
TZOFFSETFROM:-0500
TZOFFSETTO:-0600
TZNAME:CST
DTSTART:20261101T070000
END:STANDARD
END:VTIMEZONE
BEGIN:VEVENT
DTSTART;TZID=America/Chicago:20250212T090000
DTEND;TZID=America/Chicago:20250212T130000
DTSTAMP:20260422T210201
CREATED:20241023T183642Z
LAST-MODIFIED:20241023T183642Z
UID:13693-1739350800-1739365200@www.betterseed.org
SUMMARY:Iowa Seed Forum
DESCRIPTION:The Iowa Seed Forum is held in conjunction with the 2025 Agribusiness Showcase & Conference hosted by the Agribusiness Association of Iowa. Information about the event can be found here:  2025 Agribusiness Showcase & Conference.
URL:https://www.betterseed.org/event/iowa-seed-forum/
LOCATION:Meadows Events & Conference Center\, 1 Prairie Meadows Dr\, Altoona\, IA\, 50009\, United States
CATEGORIES:Events
END:VEVENT
END:VCALENDAR